BEGIN:VCALENDAR
VERSION:2.0
PRODID:-//Wisconsin Medical Alumni Association - ECPv6.15.20//NONSGML v1.0//EN
CALSCALE:GREGORIAN
METHOD:PUBLISH
X-ORIGINAL-URL:https://wmaa.med.wisc.edu
X-WR-CALDESC:Events for Wisconsin Medical Alumni Association
REFRESH-INTERVAL;VALUE=DURATION:PT1H
X-Robots-Tag:noindex
X-PUBLISHED-TTL:PT1H
BEGIN:VTIMEZONE
TZID:America/Chicago
BEGIN:DAYLIGHT
TZOFFSETFROM:-0600
TZOFFSETTO:-0500
TZNAME:CDT
DTSTART:20250309T080000
END:DAYLIGHT
BEGIN:STANDARD
TZOFFSETFROM:-0500
TZOFFSETTO:-0600
TZNAME:CST
DTSTART:20251102T070000
END:STANDARD
BEGIN:DAYLIGHT
TZOFFSETFROM:-0600
TZOFFSETTO:-0500
TZNAME:CDT
DTSTART:20260308T080000
END:DAYLIGHT
BEGIN:STANDARD
TZOFFSETFROM:-0500
TZOFFSETTO:-0600
TZNAME:CST
DTSTART:20261101T070000
END:STANDARD
BEGIN:DAYLIGHT
TZOFFSETFROM:-0600
TZOFFSETTO:-0500
TZNAME:CDT
DTSTART:20270314T080000
END:DAYLIGHT
BEGIN:STANDARD
TZOFFSETFROM:-0500
TZOFFSETTO:-0600
TZNAME:CST
DTSTART:20271107T070000
END:STANDARD
END:VTIMEZONE
BEGIN:VEVENT
DTSTART;TZID=America/Chicago:20260501T171500
DTEND;TZID=America/Chicago:20260501T200000
DTSTAMP:20260420T054613
CREATED:20251021T193124Z
LAST-MODIFIED:20260204T164702Z
UID:10000069-1777655700-1777665600@wmaa.med.wisc.edu
SUMMARY:Awards Banquet
DESCRIPTION:Each year\, the Wisconsin Medical Alumni Association recognizes alumni\, faculty and friends for their outstanding achievements\, contributions to the field of medicine and their support of the School of Medicine and Public Health. After they are announced in January\, learn more about the recipients. \nA private reception for award recipients will begin at 5:15 p.m.\, followed by dinner and program at 6 p.m. This event is by invitation only. \nContact Andrea Larson at andrea.larson@wisc.edu or 608-262-7335 with questions.
URL:https://wmaa.med.wisc.edu/event/awards-banquet-3/
LOCATION:Best Western Premier Park Hotel\, 22 S Carroll St\, Madison\, WI
CATEGORIES:Awards
ATTACH;FMTTYPE=image/jpeg:https://wmaa.med.wisc.edu/wp-content/uploads/2025/10/UW-Crest-Table-Topper-400x400-1.jpg
END:VEVENT
END:VCALENDAR