BEGIN:VCALENDAR
VERSION:2.0
PRODID:-//Wisconsin Medical Alumni Association - ECPv6.15.20//NONSGML v1.0//EN
CALSCALE:GREGORIAN
METHOD:PUBLISH
X-WR-CALNAME:Wisconsin Medical Alumni Association
X-ORIGINAL-URL:https://wmaa.med.wisc.edu
X-WR-CALDESC:Events for Wisconsin Medical Alumni Association
REFRESH-INTERVAL;VALUE=DURATION:PT1H
X-Robots-Tag:noindex
X-PUBLISHED-TTL:PT1H
BEGIN:VTIMEZONE
TZID:America/Chicago
BEGIN:DAYLIGHT
TZOFFSETFROM:-0600
TZOFFSETTO:-0500
TZNAME:CDT
DTSTART:20250309T080000
END:DAYLIGHT
BEGIN:STANDARD
TZOFFSETFROM:-0500
TZOFFSETTO:-0600
TZNAME:CST
DTSTART:20251102T070000
END:STANDARD
BEGIN:DAYLIGHT
TZOFFSETFROM:-0600
TZOFFSETTO:-0500
TZNAME:CDT
DTSTART:20260308T080000
END:DAYLIGHT
BEGIN:STANDARD
TZOFFSETFROM:-0500
TZOFFSETTO:-0600
TZNAME:CST
DTSTART:20261101T070000
END:STANDARD
BEGIN:DAYLIGHT
TZOFFSETFROM:-0600
TZOFFSETTO:-0500
TZNAME:CDT
DTSTART:20270314T080000
END:DAYLIGHT
BEGIN:STANDARD
TZOFFSETFROM:-0500
TZOFFSETTO:-0600
TZNAME:CST
DTSTART:20271107T070000
END:STANDARD
END:VTIMEZONE
BEGIN:VEVENT
DTSTART;TZID=America/Chicago:20260605T091500
DTEND;TZID=America/Chicago:20260605T200000
DTSTAMP:20260421T065657
CREATED:20260115T153729Z
LAST-MODIFIED:20260115T160151Z
UID:10000070-1780650900-1780689600@wmaa.med.wisc.edu
SUMMARY:Medical Alumni Day 2026
DESCRIPTION:Reunite with old friends on the UW–Madison campus. Reunions for the classes of 1961\, 1966\, 1976\, 1981 and the annual reunion of the Half-Century Society (all medical alumni who graduated more than 50 years ago). \nThe schedule\, hotel blocks and registration info is available on the Medical Alumni Day event page. \nContact Andrea Larson at andrea.larson@wisc.edu or 608-262-7335 with questions. \nFriday\, June 5\n9:15–10:15 a.m. Tours of the Health Sciences Learning Center (HSLC)\n10:30 a.m.–noon “State of the School” (HSLC)\nNoon–1 p.m. Class reunion lunches (HSLC)\n5–8 p.m. Class receptions and dinners (The Madison Club\, 5 E. Wilson Street)
URL:https://wmaa.med.wisc.edu/event/medical-alumni-day-2026/
CATEGORIES:Alumni/Student Networking,Reunion,Social
ATTACH;FMTTYPE=image/jpeg:https://wmaa.med.wisc.edu/wp-content/uploads/2024/07/Alumni-Day.jpg
END:VEVENT
BEGIN:VEVENT
DTSTART;VALUE=DATE:20261002
DTEND;VALUE=DATE:20261004
DTSTAMP:20260421T065657
CREATED:20260331T175443Z
LAST-MODIFIED:20260331T180253Z
UID:10000071-1790899200-1791071999@wmaa.med.wisc.edu
SUMMARY:Medical Alumni Fall Reunions and Homecoming Weekend 2026
DESCRIPTION:Attend reunions for the classes of 1971\, ’86\, ’91\, ’96\, 2001\, 2006\, ’11\, ’16\, and ’21. \nEvent schedule and hotel room block info
URL:https://wmaa.med.wisc.edu/event/medical-alumni-fall-reunions-and-homecoming-weekend-2026/
CATEGORIES:Reunion,Social
ATTACH;FMTTYPE=image/jpeg:https://wmaa.med.wisc.edu/wp-content/uploads/2026/03/wmaa-homecoming-feature-25-600x405-1.jpg
END:VEVENT
END:VCALENDAR