BEGIN:VCALENDAR
VERSION:2.0
PRODID:-//Wisconsin Medical Alumni Association - ECPv6.15.20//NONSGML v1.0//EN
CALSCALE:GREGORIAN
METHOD:PUBLISH
X-WR-CALNAME:Wisconsin Medical Alumni Association
X-ORIGINAL-URL:https://wmaa.med.wisc.edu
X-WR-CALDESC:Events for Wisconsin Medical Alumni Association
REFRESH-INTERVAL;VALUE=DURATION:PT1H
X-Robots-Tag:noindex
X-PUBLISHED-TTL:PT1H
BEGIN:VTIMEZONE
TZID:America/Chicago
BEGIN:DAYLIGHT
TZOFFSETFROM:-0600
TZOFFSETTO:-0500
TZNAME:CDT
DTSTART:20240310T080000
END:DAYLIGHT
BEGIN:STANDARD
TZOFFSETFROM:-0500
TZOFFSETTO:-0600
TZNAME:CST
DTSTART:20241103T070000
END:STANDARD
BEGIN:DAYLIGHT
TZOFFSETFROM:-0600
TZOFFSETTO:-0500
TZNAME:CDT
DTSTART:20250309T080000
END:DAYLIGHT
BEGIN:STANDARD
TZOFFSETFROM:-0500
TZOFFSETTO:-0600
TZNAME:CST
DTSTART:20251102T070000
END:STANDARD
BEGIN:DAYLIGHT
TZOFFSETFROM:-0600
TZOFFSETTO:-0500
TZNAME:CDT
DTSTART:20260308T080000
END:DAYLIGHT
BEGIN:STANDARD
TZOFFSETFROM:-0500
TZOFFSETTO:-0600
TZNAME:CST
DTSTART:20261101T070000
END:STANDARD
END:VTIMEZONE
BEGIN:VEVENT
DTSTART;TZID=America/Chicago:20251103T183000
DTEND;TZID=America/Chicago:20251103T200000
DTSTAMP:20260422T052317
CREATED:20250714T185941Z
LAST-MODIFIED:20250714T195111Z
UID:10000065-1762194600-1762200000@wmaa.med.wisc.edu
SUMMARY:UW School of Medicine and Public Health Reception
DESCRIPTION:All alumni\, faculty\, staff and students are warmly invited to a special reception during Learn Serve Lead: The AAMC Annual Meeting. This is a wonderful opportunity to reconnect with colleagues\, celebrate our shared community\, and meet our new dean\, Nita Ahuja\, MD\, MBA. \nCome enjoy light refreshments\, meaningful conversations and a chance to hear exciting updates about the future of our school. \nWe look forward to seeing you there! \nRegister Online
URL:https://wmaa.med.wisc.edu/event/smph-aamc-reception/
LOCATION:Grand Hyatt San Antonio River Walk\, 600 E Market St\, San Antonio\, TX\, 78205\, United States
CATEGORIES:Alumni/Student Networking,Social
ATTACH;FMTTYPE=image/jpeg:https://wmaa.med.wisc.edu/wp-content/uploads/2025/07/Fall-Crest.jpg
END:VEVENT
END:VCALENDAR