BEGIN:VCALENDAR
VERSION:2.0
PRODID:-//Wisconsin Medical Alumni Association - ECPv6.15.20//NONSGML v1.0//EN
CALSCALE:GREGORIAN
METHOD:PUBLISH
X-WR-CALNAME:Wisconsin Medical Alumni Association
X-ORIGINAL-URL:https://wmaa.med.wisc.edu
X-WR-CALDESC:Events for Wisconsin Medical Alumni Association
REFRESH-INTERVAL;VALUE=DURATION:PT1H
X-Robots-Tag:noindex
X-PUBLISHED-TTL:PT1H
BEGIN:VTIMEZONE
TZID:America/Chicago
BEGIN:DAYLIGHT
TZOFFSETFROM:-0600
TZOFFSETTO:-0500
TZNAME:CDT
DTSTART:20220313T080000
END:DAYLIGHT
BEGIN:STANDARD
TZOFFSETFROM:-0500
TZOFFSETTO:-0600
TZNAME:CST
DTSTART:20221106T070000
END:STANDARD
BEGIN:DAYLIGHT
TZOFFSETFROM:-0600
TZOFFSETTO:-0500
TZNAME:CDT
DTSTART:20230312T080000
END:DAYLIGHT
BEGIN:STANDARD
TZOFFSETFROM:-0500
TZOFFSETTO:-0600
TZNAME:CST
DTSTART:20231105T070000
END:STANDARD
BEGIN:DAYLIGHT
TZOFFSETFROM:-0600
TZOFFSETTO:-0500
TZNAME:CDT
DTSTART:20240310T080000
END:DAYLIGHT
BEGIN:STANDARD
TZOFFSETFROM:-0500
TZOFFSETTO:-0600
TZNAME:CST
DTSTART:20241103T070000
END:STANDARD
BEGIN:DAYLIGHT
TZOFFSETFROM:-0600
TZOFFSETTO:-0500
TZNAME:CDT
DTSTART:20250309T080000
END:DAYLIGHT
BEGIN:STANDARD
TZOFFSETFROM:-0500
TZOFFSETTO:-0600
TZNAME:CST
DTSTART:20251102T070000
END:STANDARD
BEGIN:DAYLIGHT
TZOFFSETFROM:-0600
TZOFFSETTO:-0500
TZNAME:CDT
DTSTART:20260308T080000
END:DAYLIGHT
BEGIN:STANDARD
TZOFFSETFROM:-0500
TZOFFSETTO:-0600
TZNAME:CST
DTSTART:20261101T070000
END:STANDARD
END:VTIMEZONE
BEGIN:VEVENT
DTSTART;TZID=America/Chicago:20250502T163000
DTEND;TZID=America/Chicago:20250502T180000
DTSTAMP:20260422T051828
CREATED:20240917T140910Z
LAST-MODIFIED:20241108T183331Z
UID:10000048-1746203400-1746208800@wmaa.med.wisc.edu
SUMMARY:Scholarship Reception
DESCRIPTION:The School of Medicine and Public Health and Wisconsin Medical Alumni Association are delighted to host an evening to celebrate our extraordinary students and generous scholarship donors. \nThis event is by invitation only. Registration will open in March 2025. \nContact Hannah Shaw at hmshaw2@wisc.edu with questions.
URL:https://wmaa.med.wisc.edu/event/scholarship-reception-2/
LOCATION:Best Western Premier Park Hotel\, 22 S Carroll St\, Madison\, WI
CATEGORIES:Alumni/Student Networking
ATTACH;FMTTYPE=image/png:https://wmaa.med.wisc.edu/wp-content/uploads/2023/10/Scholarship-Reception-feature.png
END:VEVENT
BEGIN:VEVENT
DTSTART;TZID=America/Chicago:20250502T130000
DTEND;TZID=America/Chicago:20250502T160000
DTSTAMP:20260422T051828
CREATED:20240917T140412Z
LAST-MODIFIED:20241108T183309Z
UID:10000047-1746190800-1746201600@wmaa.med.wisc.edu
SUMMARY:Spring Board of Directors Meeting
DESCRIPTION:This is the Spring 2025 meeting of the WMAA Board of Directors. Registration and hotel information will be emailed directly to board members.
URL:https://wmaa.med.wisc.edu/event/spring-board-of-directors-meeting-2/
ATTACH;FMTTYPE=image/png:https://wmaa.med.wisc.edu/wp-content/uploads/2023/10/wi-mosaic-cow-feature.png
END:VEVENT
BEGIN:VEVENT
DTSTART;TZID=America/Chicago:20250410T120000
DTEND;TZID=America/Chicago:20250410T130000
DTSTAMP:20260422T051828
CREATED:20250218T195014Z
LAST-MODIFIED:20250218T195647Z
UID:10000056-1744286400-1744290000@wmaa.med.wisc.edu
SUMMARY:Student Wellness Event with Christine Sinsky\, MD '82
DESCRIPTION:The Wisconsin Medical Alumni Association\, in collaboration with Wellness-Inspired Student Enrichment (WISE)\, looks forward to hosting Christine Sinsky\, MD ’82 for a wellness discussion and lunch on Thursday\, April 10 at 12 p.m. in the Interactive Learning Studio. A general internist\, Dr. Sinsky practiced at Medical Associates Clinic in Dubuque\, Iowa for 32 years and now serves as vice president of professional satisfaction at the American Medical Association. \nAll medical students are welcome and advance registration is required. \nContact Hannah Shaw (hmshaw2@wisc.edu) with questions.
URL:https://wmaa.med.wisc.edu/event/student-wellness-event-with-christine-sinsky-md-82/
LOCATION:Health Sciences Learning Center (HSLC)\, 750 Highland Ave.\, Madison\, WI\, 53705
CATEGORIES:Alumni/Student Networking
ATTACH;FMTTYPE=image/jpeg:https://wmaa.med.wisc.edu/wp-content/uploads/2025/02/Sinsky.png
END:VEVENT
BEGIN:VEVENT
DTSTART;TZID=America/Chicago:20250408T180000
DTEND;TZID=America/Chicago:20250408T200000
DTSTAMP:20260422T051828
CREATED:20241011T183605Z
LAST-MODIFIED:20250320T131921Z
UID:10000051-1744135200-1744142400@wmaa.med.wisc.edu
SUMMARY:2025 AΩA Induction Celebration
DESCRIPTION:Each year\, the University of Wisconsin School of Medicine and Public Health honors newly inducted members of Alpha Omega Alpha (AΩA). This year’s event will be celebrated with a dinner and program featuring Hillary Lum\, MD ’08 on Tuesday\, April 8 at the Memorial Union. All alumni in Dane County who are members of AΩA are invited to join in the celebration.  \nLearn more at https://intranet.med.wisc.edu/alpha-omega-alpha-banquet/
URL:https://wmaa.med.wisc.edu/event/2025-a%cf%89a-induction-celebration/
LOCATION:Memorial Union\, 800 Langdon St\, Madison\, WI\, 53706
CATEGORIES:Alumni/Student Networking,Awards
ATTACH;FMTTYPE=image/png:https://wmaa.med.wisc.edu/wp-content/uploads/2023/10/alpha-omega-alpha-feature.png
END:VEVENT
BEGIN:VEVENT
DTSTART;TZID=America/Chicago:20250331T180000
DTEND;TZID=America/Chicago:20250331T190000
DTSTAMP:20260422T051828
CREATED:20250218T193825Z
LAST-MODIFIED:20250218T193910Z
UID:10000055-1743444000-1743447600@wmaa.med.wisc.edu
SUMMARY:PRIDE Alumni Panel
DESCRIPTION:The Wisconsin Medical Alumni Association (WMAA) is proud to partner with the Promoting Recognition of Identity\, Dignity\, and Equality (PRIDE) in Healthcare student organization to host an alumni panel and discussion. Medical students are welcome to participate in person or remotely via Zoom Webinar. \nStudents\, register online \nQuestions? Contact wmaa@med.wisc.edu.
URL:https://wmaa.med.wisc.edu/event/pride-alumni-panel-2/
LOCATION:Health Sciences Learning Center (HSLC)\, 750 Highland Ave.\, Madison\, WI\, 53705
CATEGORIES:Alumni/Student Networking
ATTACH;FMTTYPE=image/png:https://wmaa.med.wisc.edu/wp-content/uploads/2024/01/PRIDE-Logo.png
END:VEVENT
BEGIN:VEVENT
DTSTART;TZID=America/Chicago:20250311T190000
DTEND;TZID=America/Chicago:20250311T203000
DTSTAMP:20260422T051828
CREATED:20250218T193200Z
LAST-MODIFIED:20250221T165947Z
UID:10000054-1741719600-1741725000@wmaa.med.wisc.edu
SUMMARY:Class of 1970 Virtual Reunion
DESCRIPTION:The MD Class of 1970 is invited to an online gathering on Tuesday\, March 11 at 7 p.m. (CT). Stayed tuned to email for more information and the link to join. \nPlease contact Andrea Larson with any questions.
URL:https://wmaa.med.wisc.edu/event/class-of-1970-virtual-reunion/
LOCATION:Zoom\, WI
CATEGORIES:Reunion
ATTACH;FMTTYPE=image/jpeg:https://wmaa.med.wisc.edu/wp-content/uploads/2025/02/Class-of-1970-Class-Photo.jpg
END:VEVENT
BEGIN:VEVENT
DTSTART;TZID=America/Chicago:20250304T173000
DTEND;TZID=America/Chicago:20250304T183000
DTSTAMP:20260422T051828
CREATED:20240917T135622Z
LAST-MODIFIED:20250212T213024Z
UID:10000046-1741109400-1741113000@wmaa.med.wisc.edu
SUMMARY:Alternative Careers in Medicine Panel
DESCRIPTION:Panelists: Jake Behrens\, MD ’09\, Dan Repplinger\, MD ’10\, Sibyl Siegfried\, MD ’09 and A.J. Weinhold\, MD ’08 \nWMAA is partnering with the Academic and Career Advising Program (ACAP) to present this distinguished panel of medical alumni who will share their unique experiences and journey to alternative careers in medicine. \nRegister Now
URL:https://wmaa.med.wisc.edu/event/alternative-careers-in-medicine-panel-3/
LOCATION:Zoom\, WI
CATEGORIES:Alumni/Student Networking
ATTACH;FMTTYPE=image/png:https://wmaa.med.wisc.edu/wp-content/uploads/2023/10/alternative-careers-medicine-feature.png
END:VEVENT
BEGIN:VEVENT
DTSTART;TZID=America/Chicago:20250116T173000
DTEND;TZID=America/Chicago:20250116T193000
DTSTAMP:20260422T051828
CREATED:20240710T145655Z
LAST-MODIFIED:20241218T142103Z
UID:10000045-1737048600-1737055800@wmaa.med.wisc.edu
SUMMARY:Operation: Education
DESCRIPTION:M1s\, mark your calendars to participate in the 20th annual “Operation: Education\,” an event co-hosted by the Wisconsin Medical Alumni Association and Wisconsin Medical Society\, that provides medical students with the opportunity to learn more about the variety of career paths available to them. \nFor more information\, contact Hannah Shaw at hmshaw2@wisc.edu
URL:https://wmaa.med.wisc.edu/event/operation-education-2/
LOCATION:Health Sciences Learning Center (HSLC)\, 750 Highland Ave.\, Madison\, WI\, 53705
CATEGORIES:Alumni/Student Networking
ATTACH;FMTTYPE=image/png:https://wmaa.med.wisc.edu/wp-content/uploads/2023/10/Operation-Education-feature.png
END:VEVENT
BEGIN:VEVENT
DTSTART;TZID=America/Chicago:20241217T173000
DTEND;TZID=America/Chicago:20241217T190000
DTSTAMP:20260422T051828
CREATED:20240709T210641Z
LAST-MODIFIED:20251015T170636Z
UID:10000044-1734456600-1734462000@wmaa.med.wisc.edu
SUMMARY:Unfazed
DESCRIPTION:M2s\, save the evening of Tuesday\, December 17 for an informal dinner with UW residents\, “Unfazed: the real-life survival guide to Phase 2.” You will be assigned to tables organized by your first Phase 2 block\, where UW residents related to that block will also be seated. It will be a great chance for you to informally ask questions and feel more confident heading into Phase 2. \nResident Registration \nStudents\, watch your email for registration information.
URL:https://wmaa.med.wisc.edu/event/unfazed-2024/
LOCATION:Interactive Learning Center (ILC)\, HSLC\, 750 Highland Ave.\, Madison\, WI
CATEGORIES:Alumni/Student Networking
ATTACH;FMTTYPE=image/jpeg:https://wmaa.med.wisc.edu/wp-content/uploads/2024/07/Mel-Ricker-Sarah-Larson-Jen-Tran-Alec-Winzenried-23-Unfazed.jpg
END:VEVENT
BEGIN:VEVENT
DTSTART;TZID=America/Chicago:20241119T173000
DTEND;TZID=America/Chicago:20241119T183000
DTSTAMP:20260422T051828
CREATED:20240709T210233Z
LAST-MODIFIED:20241108T183119Z
UID:10000043-1732037400-1732041000@wmaa.med.wisc.edu
SUMMARY:Alternative Careers in Medicine Panel
DESCRIPTION:Panelists: Gregory Daniel\, MD ’82\, Alan Glicklich\, MD ’89\, Anne Jacobson\, MD ’96 and Hannah Kirking\, MD ’10 \nWMAA is partnering with the Academic and Career Advising Program (ACAP) to present this distinguished panel of medical alumni who will share their unique experiences and journey to alternative careers in medicine. \nRegister Now
URL:https://wmaa.med.wisc.edu/event/alternative-careers-in-medicine-panel-2024/
LOCATION:Zoom\, WI
CATEGORIES:Alumni/Student Networking
ATTACH;FMTTYPE=image/png:https://wmaa.med.wisc.edu/wp-content/uploads/2023/10/alternative-careers-medicine-feature.png
END:VEVENT
BEGIN:VEVENT
DTSTART;TZID=America/Chicago:20241025T130000
DTEND;TZID=America/Chicago:20241025T160000
DTSTAMP:20260422T051828
CREATED:20240709T204100Z
LAST-MODIFIED:20240917T140611Z
UID:10000040-1729861200-1729872000@wmaa.med.wisc.edu
SUMMARY:Fall Board of Directors Meeting
DESCRIPTION:This is the Fall 2024 meeting of the WMAA Board of Directors. Registration and hotel information will be emailed directly to board members.
URL:https://wmaa.med.wisc.edu/event/fall-2024-board-of-directors-meeting/
ATTACH;FMTTYPE=image/png:https://wmaa.med.wisc.edu/wp-content/uploads/2023/10/wi-mosaic-cow-feature.png
END:VEVENT
BEGIN:VEVENT
DTSTART;VALUE=DATE:20241025
DTEND;VALUE=DATE:20241027
DTSTAMP:20260422T051828
CREATED:20231220T160122Z
LAST-MODIFIED:20231220T161540Z
UID:10000033-1729814400-1729987199@wmaa.med.wisc.edu
SUMMARY:Medical Alumni Fall Reunions and Homecoming Weekend 2024
DESCRIPTION:Attend reunions for the classes of 1984\, ’89\, ’94\, ’99\, 2004\, ’09\, ’14\, and ’19. \nEvent schedule and hotel room block info
URL:https://wmaa.med.wisc.edu/event/reunions-and-homecoming-weekend-2024/
CATEGORIES:Reunion,Social
ATTACH;FMTTYPE=image/jpeg:https://wmaa.med.wisc.edu/wp-content/uploads/2023/12/wmaa100623_055-jpg.webp
END:VEVENT
BEGIN:VEVENT
DTSTART;TZID=America/Chicago:20241024T120000
DTEND;TZID=America/Chicago:20241024T130000
DTSTAMP:20260422T051828
CREATED:20241011T191938Z
LAST-MODIFIED:20241014T143802Z
UID:10000052-1729771200-1729774800@wmaa.med.wisc.edu
SUMMARY:SAPP Lunch with Dorris Powell-Alexander\, MD '94
DESCRIPTION:Medical students are invited to join the WMAA’s Student Alumni Partnership Program lunch with Dorris Powell-Alexander\, MD ’94. Dr. Powell-Alexander is an assistant professor of emergency medicine at Vanderbilt University. She also serves as the co-director of Inclusion\, Diversity\, Equity\, Antiracism (IDEA) and medical director of the Sexual Assault Nurse Examiner (SANE) education program. \nRegister online by Friday\, October 18.
URL:https://wmaa.med.wisc.edu/event/sapp-lunch-with-dorris-powell-alexander-md-94/
LOCATION:4201\, HSLC\, 750 Highland Ave.\, Madison\, WI
CATEGORIES:Alumni/Student Networking
ATTACH;FMTTYPE=image/png:https://wmaa.med.wisc.edu/wp-content/uploads/2024/10/Dorris-Powell-Alexander.png
END:VEVENT
BEGIN:VEVENT
DTSTART;TZID=America/Chicago:20240920T180000
DTEND;TZID=America/Chicago:20240920T180000
DTSTAMP:20260422T051828
CREATED:20240709T205830Z
LAST-MODIFIED:20240917T135230Z
UID:10000042-1726855200-1726855200@wmaa.med.wisc.edu
SUMMARY:Middleton Society Donor Appreciation Event
DESCRIPTION:6 p.m. Reception\n7 p.m. Dinner and Program \nFEATURED PRESENTATIONS \nBeyond the Surface: Unveiling the Complexity of Alzheimer’s Disease from Early Detection to Personalized Care \nSterling Johnson\, PhD\nJean R. Finley Professor of Geriatrics and Dementia\nPrincipal Investigator of the WRAP Study\nAssociate Director\, Wisconsin Alzheimer’s Disease Research Center and Wisconsin Alzheimer’s Institute\nUniversity of Wisconsin School of Medicine and Public Health \nFueling Futures: The Transformative Impact of Philanthropy on Medical Students \nGwen McIntosh\, MD\, MPH\nAssociate Dean for Students\nProfessor of Pediatrics\nUniversity of Wisconsin School of Medicine and Public Health \nRegistration is now closed. Questions? Please contact Donna Hellenbrand at donna.hellenbrand@supportuw.org. \nLearn about joining the Middleton Society
URL:https://wmaa.med.wisc.edu/event/middleton-society-donor-appreciation-event-2024/
CATEGORIES:Social
ATTACH;FMTTYPE=image/png:https://wmaa.med.wisc.edu/wp-content/uploads/2023/08/middleton-feature.png
END:VEVENT
BEGIN:VEVENT
DTSTART;TZID=America/Chicago:20240828T170000
DTEND;TZID=America/Chicago:20240828T190000
DTSTAMP:20260422T051828
CREATED:20240424T141645Z
LAST-MODIFIED:20240718T212003Z
UID:10000038-1724864400-1724871600@wmaa.med.wisc.edu
SUMMARY:Stethoscope Presentation and Badger Cookout
DESCRIPTION:The Wisconsin Medical Alumni Association (WMAA) will be presenting M1 students with a stethoscope\, immediately followed by our Badger Cookout. Students\, please bring these items with you: \n\nA $1 bill (for the glory of the 2024 entering class!)\nA pen\nSnail mail address of a person whom you wish to thank for helping to get you where you now are\nYour white coat – we’ll be taking your class photo
URL:https://wmaa.med.wisc.edu/event/stethoscope-presentation-and-badger-cookout-2024/
LOCATION:1306 HSLC & Healing Garden\, 750 Highland Avenue\, Wisconsin\, 53705\, United States
ATTACH;FMTTYPE=image/jpeg:https://wmaa.med.wisc.edu/wp-content/uploads/2024/04/2023-Stethoscope-Image.jpg
END:VEVENT
BEGIN:VEVENT
DTSTART;TZID=America/Chicago:20240605T173000
DTEND;TZID=America/Chicago:20240605T193000
DTSTAMP:20260422T051828
CREATED:20240307T180156Z
LAST-MODIFIED:20240523T171442Z
UID:10000037-1717608600-1717615800@wmaa.med.wisc.edu
SUMMARY:Wausau Alumni Dinner and Program
DESCRIPTION:Join fellow alumni from central Wisconsin to hear from Howard Bailey\, MD\, the University of Wisconsin’s expert on drug and nutrient development for the prevention or treatment of cancer and a national expert on chemoprevention. Dr. Bailey will deliver a talk entitled\, “The University of Wisconsin: An Ongoing Legacy of Impacting Cancer Care and Research” and field questions from the audience. \nDinner from Urban Street Bistro Catering will be served and there will be plenty of time for socializing with fellow Badger physicians. \nOnline registration is now closed. If you would like to attend or have any questions\, please contact Sarah Rothschild at 608-263-4915 or sbrothschild@wisc.edu.
URL:https://wmaa.med.wisc.edu/event/wausau-alumni-dinner-and-program/
LOCATION:Tebo & Tilly\, 745 Scott Street\, Wausau\, WI\, United States
ATTACH;FMTTYPE=image/jpeg:https://wmaa.med.wisc.edu/wp-content/uploads/2020/01/WMAA-event-Wausau-thumbnail-jpg.webp
END:VEVENT
BEGIN:VEVENT
DTSTART;TZID=America/Chicago:20240514T190000
DTEND;TZID=America/Chicago:20240514T203000
DTSTAMP:20260422T051828
CREATED:20240201T145248Z
LAST-MODIFIED:20240201T145248Z
UID:10000035-1715713200-1715718600@wmaa.med.wisc.edu
SUMMARY:Class of 1971 Virtual Reunion
DESCRIPTION:The MD Class of 1971 is invited to an online gathering on Tuesday\, May 14 at 7 p.m. (CT). Stayed tuned to email for more information and the link to join. \nPlease contact Andrea Larson with any questions.
URL:https://wmaa.med.wisc.edu/event/class-of-1971-virtual-reunion/
LOCATION:Zoom\, WI
CATEGORIES:Reunion
ATTACH;FMTTYPE=image/jpeg:https://wmaa.med.wisc.edu/wp-content/uploads/2024/02/1971-class-grad-photo-sized-for-web-jpg.webp
END:VEVENT
BEGIN:VEVENT
DTSTART;TZID=America/Chicago:20240419T173000
DTEND;TZID=America/Chicago:20240419T200000
DTSTAMP:20260422T051828
CREATED:20230919T202747Z
LAST-MODIFIED:20240131T221604Z
UID:10000027-1713547800-1713556800@wmaa.med.wisc.edu
SUMMARY:Awards Banquet
DESCRIPTION:Each year\, the Wisconsin Medical Alumni Association recognizes alumni\, faculty and friends for their outstanding achievements\, contributions to the field of medicine and their support of the School of Medicine and Public Health. Learn more about this year’s recipients here. \nA reception for award recipients will begin at 5:30 pm\, followed by dinner and program at 6 pm. This event is by invitation only. \nContact Andrea Larson at andrea.larson@wisc.edu or 608-262-7335 with questions.
URL:https://wmaa.med.wisc.edu/event/awards-banquet/
LOCATION:Madison Concourse Hotel\, 1 West Dayton Street\, Madison\, 53703\, United States
CATEGORIES:Awards
ATTACH;FMTTYPE=image/png:https://wmaa.med.wisc.edu/wp-content/uploads/2023/10/awards-event-feature.png
END:VEVENT
BEGIN:VEVENT
DTSTART;TZID=America/Chicago:20240419T163000
DTEND;TZID=America/Chicago:20240419T180000
DTSTAMP:20260422T051828
CREATED:20230919T202538Z
LAST-MODIFIED:20240117T180001Z
UID:10000026-1713544200-1713549600@wmaa.med.wisc.edu
SUMMARY:Scholarship Reception
DESCRIPTION:The School of Medicine and Public Health and Wisconsin Medical Alumni Association are delighted to host an evening to celebrate our extraordinary students and generous scholarship donors. \nThis event is by invitation only. Registration will open in March 2024. \nContact Hannah Shaw at hmshaw2@wisc.edu with questions. \n 
URL:https://wmaa.med.wisc.edu/event/scholarship-reception/
LOCATION:Madison Concourse Hotel\, 1 West Dayton Street\, Madison\, 53703\, United States
ATTACH;FMTTYPE=image/png:https://wmaa.med.wisc.edu/wp-content/uploads/2023/10/Scholarship-Reception-feature.png
END:VEVENT
BEGIN:VEVENT
DTSTART;TZID=America/Chicago:20240419T130000
DTEND;TZID=America/Chicago:20240419T160000
DTSTAMP:20260422T051828
CREATED:20230919T202432Z
LAST-MODIFIED:20240117T174723Z
UID:10000025-1713531600-1713542400@wmaa.med.wisc.edu
SUMMARY:Spring Board of Directors Meeting
DESCRIPTION:This is the Spring 2024 meeting of the WMAA Board of Directors. Registration and hotel information will be emailed directly to board members.
URL:https://wmaa.med.wisc.edu/event/spring-board-of-directors-meeting/
ATTACH;FMTTYPE=image/png:https://wmaa.med.wisc.edu/wp-content/uploads/2023/10/wi-mosaic-cow-feature.png
END:VEVENT
BEGIN:VEVENT
DTSTART;TZID=America/Chicago:20240410T120000
DTEND;TZID=America/Chicago:20240410T130000
DTSTAMP:20260422T051828
CREATED:20240216T175150Z
LAST-MODIFIED:20241107T191307Z
UID:10000036-1712750400-1712754000@wmaa.med.wisc.edu
SUMMARY:Wellness Panel
DESCRIPTION:The Wisconsin Medical Alumni Association\, in collaboration with Wellness-Inspired Student Enrichment (WISE)\, will hold a Wellness Panel for medical students on Wednesday\, April 10 at 12 p.m. in HSLC 1335. \nPanelists: Dawn Elfenbein\, MD\, MPH\, FACS\, Rebecca Luoh\, M4\, Mariah Quinn\, MD\, MPH and Sarah Webber\, MD\, Res. ’15 \nContact Hannah Shaw (hmshaw2@wisc.edu) with questions.
URL:https://wmaa.med.wisc.edu/event/wellness-panel/
LOCATION:Health Sciences Learning Center (HSLC)\, 750 Highland Ave.\, Madison\, WI\, 53705
CATEGORIES:Alumni/Student Networking
ATTACH;FMTTYPE=image/jpeg:https://wmaa.med.wisc.edu/wp-content/uploads/2024/02/wellness-thumbnail-scaled-jpg.webp
END:VEVENT
BEGIN:VEVENT
DTSTART;VALUE=DATE:20240402
DTEND;VALUE=DATE:20240403
DTSTAMP:20260422T051828
CREATED:20231023T125218Z
LAST-MODIFIED:20240307T183233Z
UID:10000030-1712016000-1712102399@wmaa.med.wisc.edu
SUMMARY:AΩA Induction Celebration
DESCRIPTION:Each year\, the University of Wisconsin School of Medicine and Public Health honors newly inducted members of Alpha Omega Alpha (AΩA). This year’s event will be celebrated with a dinner and program on Tuesday\, April 2 at Carson Gulley Center in Madison. All alumni in Dane County who are members of AΩA are invited to join in the celebration.  \nRegister for the event by March 18
URL:https://wmaa.med.wisc.edu/event/2024-alpha-omega-alpha-induction/
LOCATION:Carson Gulley Center\, 1515 Tripp Circle\, Madison\, WI\, 53706\, United States
ATTACH;FMTTYPE=image/png:https://wmaa.med.wisc.edu/wp-content/uploads/2023/10/alpha-omega-alpha-feature.png
END:VEVENT
BEGIN:VEVENT
DTSTART;TZID=America/Chicago:20240325T180000
DTEND;TZID=America/Chicago:20240325T193000
DTSTAMP:20260422T051828
CREATED:20240117T171610Z
LAST-MODIFIED:20240213T191608Z
UID:10000034-1711389600-1711395000@wmaa.med.wisc.edu
SUMMARY:PRIDE Alumni Panel
DESCRIPTION:The Wisconsin Medical Alumni Association (WMAA) is proud to partner with the Promoting Recognition of Identity\, Dignity\, and Equality (PRIDE) in Healthcare student organization to host an alumni panel and discussion. Medical students are welcome to participate in person or remotely via Zoom Webinar. \nRegister for the event
URL:https://wmaa.med.wisc.edu/event/pride-alumni-panel/
LOCATION:Health Sciences Learning Center (HSLC)\, 750 Highland Ave.\, Madison\, WI\, 53705
CATEGORIES:Alumni/Student Networking
ATTACH;FMTTYPE=image/png:https://wmaa.med.wisc.edu/wp-content/uploads/2024/01/PRIDE-Logo.png
END:VEVENT
BEGIN:VEVENT
DTSTART;TZID=America/Chicago:20240228T173000
DTEND;TZID=America/Chicago:20240228T193000
DTSTAMP:20260422T051828
CREATED:20231121T164229Z
LAST-MODIFIED:20240219T162647Z
UID:10000032-1709141400-1709148600@wmaa.med.wisc.edu
SUMMARY:Partnering to Advance Health Equity in Milwaukee
DESCRIPTION:Discover how UW School of Medicine and Public Health partnerships impact your community. \nOnline registration is now closed. If you are interested in attending\, please contact Sarah Rothschild at sbrothschild@wisc.edu or (608) 263-4915.
URL:https://wmaa.med.wisc.edu/event/partnering-to-advance-health-equity-in-milwaukee/
LOCATION:Italian Community Center\, 631 E. Chicago Street\, Milwaukee\, WI\, United States
CATEGORIES:Alumni/Student Networking
ATTACH;FMTTYPE=image/jpeg:https://wmaa.med.wisc.edu/wp-content/uploads/2023/11/Milwaukee-citys-north-east-side-the-Milwaukee-River-and-downtown-jpg.webp
END:VEVENT
BEGIN:VEVENT
DTSTART;TZID=America/Chicago:20240220T173000
DTEND;TZID=America/Chicago:20240220T183000
DTSTAMP:20260422T051828
CREATED:20230919T200259Z
LAST-MODIFIED:20240125T221422Z
UID:10000024-1708450200-1708453800@wmaa.med.wisc.edu
SUMMARY:Alternative Careers in Medicine Panel
DESCRIPTION:WMAA is partnering with the Academic and Career Advising Program (ACAP) to present this distinguished panel of medical alumni who will share their unique experiences and journey to alternative careers in medicine. \nPanelists: Chris Harris\, MD ’87\, Margaret Lozovatsky\, MD ’06\, Brita Lundberg\, MD ’91 and Trudy Malone\, MD ’93 \nRegister Now
URL:https://wmaa.med.wisc.edu/event/alternative-careers-in-medicine-panel-2/
LOCATION:Zoom\, WI
CATEGORIES:Alumni/Student Networking
ATTACH;FMTTYPE=image/png:https://wmaa.med.wisc.edu/wp-content/uploads/2023/10/alternative-careers-medicine-feature.png
END:VEVENT
BEGIN:VEVENT
DTSTART;TZID=America/Chicago:20240124T190000
DTEND;TZID=America/Chicago:20240124T200000
DTSTAMP:20260422T051828
CREATED:20231107T172055Z
LAST-MODIFIED:20240117T175720Z
UID:10000031-1706122800-1706126400@wmaa.med.wisc.edu
SUMMARY:Career Advice from Badgers
DESCRIPTION:M3s are invited to a new UW School of Medicine and Public Health virtual specialty exploration event on Wednesday\, January 24. Students receive access to incredible mentors and educators as part of the ForWard Curriculum and this is an opportunity to expand that network beyond UW and begin thinking about your long-term career goals. \nConnect in small groups with Badger alumni from around the country to learn more about the benefits and tradeoffs associated with different specialties\, clinical practice settings and working in different regions of the country. We hope you will utilize this opportunity to expand your network and gain a better understanding of the specialty areas you find most interesting ahead of the next residency application cycle. \nAlumni Registration \nStudent Registration
URL:https://wmaa.med.wisc.edu/event/career-advice-from-badgers/
LOCATION:Zoom\, WI
CATEGORIES:Alumni/Student Networking
ATTACH;FMTTYPE=image/jpeg:https://wmaa.med.wisc.edu/wp-content/uploads/2023/11/Bucky-zoom-feature-jpg.webp
END:VEVENT
BEGIN:VEVENT
DTSTART;TZID=America/Chicago:20240117T173000
DTEND;TZID=America/Chicago:20240117T193000
DTSTAMP:20260422T051828
CREATED:20230919T200127Z
LAST-MODIFIED:20251104T163727Z
UID:10000023-1705512600-1705519800@wmaa.med.wisc.edu
SUMMARY:Operation: Education
DESCRIPTION:Registration is now closed. Please email wmaa@med.wisc.edu with questions. \n 
URL:https://wmaa.med.wisc.edu/event/operation-education/
LOCATION:Health Sciences Learning Center (HSLC)\, 750 Highland Ave.\, Madison\, WI\, 53705
CATEGORIES:Alumni/Student Networking
ATTACH;FMTTYPE=image/png:https://wmaa.med.wisc.edu/wp-content/uploads/2023/10/Operation-Education-feature.png
END:VEVENT
BEGIN:VEVENT
DTSTART;TZID=America/Chicago:20231212T180000
DTEND;TZID=America/Chicago:20231212T193000
DTSTAMP:20260422T051828
CREATED:20230919T195557Z
LAST-MODIFIED:20231109T181709Z
UID:10000022-1702404000-1702409400@wmaa.med.wisc.edu
SUMMARY:Unfazed
DESCRIPTION:M2s\, save the evening of Tuesday\, December 12 for an informal dinner with UW residents\, “Unfazed: the real-life survival guide to Phase 2.” You will be assigned to tables organized by your first Phase 2 block\, where UW residents related to that block will also be seated. It’ll be a great chance for you to informally ask questions and feel more confident heading into Phase 2. \nStudent registration \nAlumni registration
URL:https://wmaa.med.wisc.edu/event/unfazed/
CATEGORIES:Alumni/Student Networking
ATTACH;FMTTYPE=image/png:https://wmaa.med.wisc.edu/wp-content/uploads/2023/09/Unfazed-1-feature.png
END:VEVENT
BEGIN:VEVENT
DTSTART;TZID=America/Chicago:20231105T183000
DTEND;TZID=America/Chicago:20231105T203000
DTSTAMP:20260422T051828
CREATED:20230919T195017Z
LAST-MODIFIED:20231030T160931Z
UID:10000021-1699209000-1699216200@wmaa.med.wisc.edu
SUMMARY:Seattle Alumni Reception
DESCRIPTION:Enjoy the beautiful view of Lake Union and the company of fellow medical alumni in Seattle for a reception and networking. Online registration is now closed. If you would like to attend\, please contact Hannah Shaw at 608-263-4915 or hmshaw2@wisc.edu.
URL:https://wmaa.med.wisc.edu/event/seattle-alumni-reception/
LOCATION:Dockside at Duke’s\, 1111 Fairview Ave N\, Seattle\, WA\, United States
CATEGORIES:Social
ATTACH;FMTTYPE=image/png:https://wmaa.med.wisc.edu/wp-content/uploads/2023/09/seattle-1-feature.png
END:VEVENT
BEGIN:VEVENT
DTSTART;TZID=America/Chicago:20231101T173000
DTEND;TZID=America/Chicago:20231101T183000
DTSTAMP:20260422T051829
CREATED:20230906T142120Z
LAST-MODIFIED:20240304T212618Z
UID:10000018-1698859800-1698863400@wmaa.med.wisc.edu
SUMMARY:Alternative Careers in Medicine Panel
DESCRIPTION:Panelists: Tom Jeanne\, MD ’12\, MPH\, Sheila Patel\, MD ’94 and Tom Westfall\, MD ’03 \nWMAA is partnering with the Academic and Career Advising Program (ACAP) to present this distinguished panel of medical alumni who will share their unique experiences and journey to alternative careers in medicine.
URL:https://wmaa.med.wisc.edu/event/alternative-careers-in-medicine-panel/
LOCATION:Zoom\, WI
CATEGORIES:Alumni/Student Networking
ATTACH;FMTTYPE=image/png:https://wmaa.med.wisc.edu/wp-content/uploads/2023/10/alternative-careers-medicine-feature.png
END:VEVENT
END:VCALENDAR